BEGIN:VCALENDAR
VERSION:2.0
PRODID:https://international.eco.de/event/5-domain-stammtisch-nrw/
BEGIN:VEVENT
UID:94266
DTSTAMP:20260421T003216
DTSTART:20190905T190000
DTEND:20190905T230000
SUMMARY:5th Domain stammtisch.nrw
LOCATION:Rickert Rechtsanwaltsgesellschaft\, Kaiserplatz 7 - 9\, 53113 Bonn
ORGANIZER:eco
URL:https://international.eco.de/event/5-domain-stammtisch-nrw/
DESCRIPTION:5th Domain stammtisch.nrw
END:VEVENT
END:VCALENDAR
