BEGIN:VCALENDAR
VERSION:2.0
PRODID:https://international.eco.de/event/transatlantic-dialogue-part-iii-the-future-of-eu-us-privacy-shield/
BEGIN:VEVENT
UID:93247
DTSTAMP:20260421T005626
DTSTART:20190522T130000
DTEND:20190522T150000
SUMMARY:Transatlantic Dialogue Part III – The Future of EU-US Privacy Shield
LOCATION:2020 Rayburn House Office Building\, 45 Independence Ave SW Washington\, 20515 Washington\, D.C.
ORGANIZER:eco
URL:https://international.eco.de/event/transatlantic-dialogue-part-iii-the-future-of-eu-us-privacy-shield/
DESCRIPTION:Transatlantic Dialogue Part III – The Future of EU-US Privacy Shield
END:VEVENT
END:VCALENDAR
