BEGIN:VCALENDAR
VERSION:2.0
PRODID:https://international.eco.de/event/kg-anti-abuse-dnssec/
BEGIN:VEVENT
UID:90752
DTSTAMP:20260421T021526
DTSTART:20190410T123000
DTEND:20190410T180000
SUMMARY:CG – Anti Abuse – DNSSEC
LOCATION:eco - Association of the Internet Industry\, Lichtstraße 43h\, 50825 Cologne
ORGANIZER:eco
URL:https://international.eco.de/event/kg-anti-abuse-dnssec/
DESCRIPTION:CG – Anti Abuse – DNSSEC
END:VEVENT
END:VCALENDAR
