BEGIN:VCALENDAR
VERSION:2.0
PRODID:https://international.eco.de/event/icu-amsterdam-2018/
BEGIN:VEVENT
UID:52312
DTSTAMP:20260422T025748
DTSTART:20180918T000000
DTEND:20180919T000000
SUMMARY:iCU AMSTERDAM 2018
LOCATION:Hotel Sofitel Legend The Grand Amsterdam\, Oudezijds Voorburgwal 197\, 1012 EX Amsterdam
ORGANIZER:eco
URL:https://international.eco.de/event/icu-amsterdam-2018/
DESCRIPTION:iCU AMSTERDAM 2018
END:VEVENT
END:VCALENDAR
