BEGIN:VCALENDAR
VERSION:2.0
PRODID:https://international.eco.de/event/eco-policy-breakfast-in-brussels/
BEGIN:VEVENT
UID:47621
DTSTAMP:20260424T173328
DTSTART:20180227T080000
DTEND:20180227T093000
SUMMARY:eco Policy Breakfast in Brussels
LOCATION:European Parliament\, \, 1140 Brussels
ORGANIZER:eco
URL:https://international.eco.de/event/eco-policy-breakfast-in-brussels/
DESCRIPTION:eco Policy Breakfast in Brussels
END:VEVENT
END:VCALENDAR
