BEGIN:VCALENDAR
VERSION:2.0
PRODID:https://international.eco.de/event/datacloud-europe-2018/
BEGIN:VEVENT
UID:46030
DTSTAMP:20260425T020813
DTSTART:20180612T000000
DTEND:20180614T000000
SUMMARY:DATACLOUD EUROPE 2018
LOCATION:
ORGANIZER:eco
URL:https://international.eco.de/event/datacloud-europe-2018/
DESCRIPTION:DATACLOUD EUROPE 2018
END:VEVENT
END:VCALENDAR
