BEGIN:VCALENDAR
VERSION:2.0
PRODID:https://international.eco.de/event/datacloud-asia-2018/
BEGIN:VEVENT
UID:45986
DTSTAMP:20260421T075440
DTSTART:20180322T084000
DTEND:20180322T175000
SUMMARY:DATACLOUD ASIA 2018
LOCATION:
ORGANIZER:eco
URL:https://international.eco.de/event/datacloud-asia-2018/
DESCRIPTION:DATACLOUD ASIA 2018
END:VEVENT
END:VCALENDAR
