BEGIN:VCALENDAR
VERSION:2.0
PRODID:https://international.eco.de/event/dcd-energy-smart/
BEGIN:VEVENT
UID:45932
DTSTAMP:20260425T020746
DTSTART:20180313T090000
DTEND:20180313T173000
SUMMARY:DCD Energy Smart
LOCATION:
ORGANIZER:eco
URL:https://international.eco.de/event/dcd-energy-smart/
DESCRIPTION:DCD Energy Smart
END:VEVENT
END:VCALENDAR
