BEGIN:VCALENDAR
VERSION:2.0
PRODID:https://international.eco.de/event/icann-euralo-webinar-on-gdpr/
BEGIN:VEVENT
UID:45694
DTSTAMP:20260421T093647
DTSTART:20180219T190000
DTEND:20180219T203000
SUMMARY:ICANN - EURALO: Webinar on GDPR
LOCATION:Webinar\, \,  
ORGANIZER:eco
URL:https://international.eco.de/event/icann-euralo-webinar-on-gdpr/
DESCRIPTION:ICANN - EURALO: Webinar on GDPR
END:VEVENT
END:VCALENDAR
