BEGIN:VCALENDAR
VERSION:2.0
PRODID:https://international.eco.de/event/eco-politalk-1-2018-koalitionsverhandlungen-live-digitalpolitik-2018-2021-visionen-oder-weiter-so/
BEGIN:VEVENT
UID:43595
DTSTAMP:20260425T112156
DTSTART:20180220T180000
DTEND:20180220T220000
SUMMARY:eco polItalk 1/2018: Koalitionsverhandlungen live! – Digitalpolitik 2018 – 2021: Visionen oder Weiter so?
LOCATION:Quadriga Forum\, Werderscher Markt 13\, 10117 Berlin
ORGANIZER:eco
URL:https://international.eco.de/event/eco-politalk-1-2018-koalitionsverhandlungen-live-digitalpolitik-2018-2021-visionen-oder-weiter-so/
DESCRIPTION:eco polItalk 1/2018: Koalitionsverhandlungen live! – Digitalpolitik 2018 – 2021: Visionen oder Weiter so?
END:VEVENT
END:VCALENDAR
