BEGIN:VCALENDAR
VERSION:2.0
PRODID:https://international.eco.de/event/konferenz-domain-pulse-2017/
BEGIN:VEVENT
UID:42319
DTSTAMP:20260421T142242
DTSTART:20170216T000000
DTEND:20170217T000000
SUMMARY:Conference: Domain pulse 2017
LOCATION:
ORGANIZER:eco
URL:https://international.eco.de/event/konferenz-domain-pulse-2017/
DESCRIPTION:Conference: Domain pulse 2017
END:VEVENT
END:VCALENDAR
