BEGIN:VCALENDAR
VERSION:2.0
PRODID:https://international.eco.de/event/mitgliederversammlung-eco-e-v-2017/
BEGIN:VEVENT
UID:37339
DTSTAMP:20260425T231410
DTSTART:20171124T003000
DTEND:20171124T173000
SUMMARY:General Assembly eco e.V. 2017
LOCATION:
ORGANIZER:eco
URL:https://international.eco.de/event/mitgliederversammlung-eco-e-v-2017/
DESCRIPTION:General Assembly eco e.V. 2017
END:VEVENT
END:VCALENDAR
