BEGIN:VCALENDAR
VERSION:2.0
PRODID:https://international.eco.de/event/datacloud-nordic-2017/
BEGIN:VEVENT
UID:35480
DTSTAMP:20260426T021828
DTSTART:20171030T000000
DTEND:20171030T000000
SUMMARY:Datacloud Nordic 2017
LOCATION:
ORGANIZER:eco
URL:https://international.eco.de/event/datacloud-nordic-2017/
DESCRIPTION:Datacloud Nordic 2017
END:VEVENT
END:VCALENDAR
