BEGIN:VCALENDAR
VERSION:2.0
PRODID:https://international.eco.de/event/dcd-zettastructure/
BEGIN:VEVENT
UID:35475
DTSTAMP:20260426T024404
DTSTART:20171107T000000
DTEND:20171108T000000
SUMMARY:DCD Zettastructure
LOCATION:
ORGANIZER:eco
URL:https://international.eco.de/event/dcd-zettastructure/
DESCRIPTION:DCD Zettastructure
END:VEVENT
END:VCALENDAR
