BEGIN:VCALENDAR
VERSION:2.0
PRODID:https://international.eco.de/event/internet-security-days-encryption-must-be-suitable-for-the-masses-2/
BEGIN:VEVENT
UID:3169
DTSTAMP:20260421T161540
DTSTART:20160811T000000
DTEND:20160811T000000
SUMMARY:Internet Security Days: Encryption Must Be Suitable for the Masses
LOCATION:
ORGANIZER:eco
URL:https://international.eco.de/event/internet-security-days-encryption-must-be-suitable-for-the-masses-2/
DESCRIPTION:Internet Security Days: Encryption Must Be Suitable for the Masses
END:VEVENT
END:VCALENDAR
