BEGIN:VCALENDAR
VERSION:2.0
PRODID:https://international.eco.de/event/17th-meeting-of-the-icann-studienkreis-2/
BEGIN:VEVENT
UID:30140
DTSTAMP:20260421T125706
DTSTART:20170924T000000
DTEND:20170924T000000
SUMMARY:17th Meeting of the ICANN-Studienkreis
LOCATION:Hilton Stockholm Slussen\, Guldgränd 8\, 104 65 Stockholm
ORGANIZER:eco
URL:https://international.eco.de/event/17th-meeting-of-the-icann-studienkreis-2/
DESCRIPTION:17th Meeting of the ICANN-Studienkreis
END:VEVENT
END:VCALENDAR
