BEGIN:VCALENDAR
VERSION:2.0
PRODID:https://international.eco.de/event/ruhrsec-2017/
BEGIN:VEVENT
UID:29642
DTSTAMP:20260422T103144
DTSTART:20170504T000000
DTEND:20170505T000000
SUMMARY:Ruhrsec 2017
LOCATION:Ruhr-Universität Bochum\, Veranstaltungszentrum\, 44801 Bochum
ORGANIZER:eco
URL:https://international.eco.de/event/ruhrsec-2017/
DESCRIPTION:Ruhrsec 2017
END:VEVENT
END:VCALENDAR
