BEGIN:VCALENDAR
VERSION:2.0
PRODID:https://international.eco.de/event/european-voices-for-the-future-of-the-internet-20-years-of-eu/
BEGIN:VEVENT
UID:273240
DTSTAMP:20260422T105411
DTSTART:20260526T090000
DTEND:20260527T170000
SUMMARY:EuroDIG 2026: European Voices for the Future of the Internet – Celebrating 20 Years of .eu and the Beginning of a New Internet Governance Era
LOCATION:
ORGANIZER:eco
URL:https://international.eco.de/event/european-voices-for-the-future-of-the-internet-20-years-of-eu/
DESCRIPTION:EuroDIG 2026: European Voices for the Future of the Internet – Celebrating 20 Years of .eu and the Beginning of a New Internet Governance Era
END:VEVENT
END:VCALENDAR
