BEGIN:VCALENDAR
VERSION:2.0
PRODID:https://international.eco.de/event/ai-in-the-automotive-industry-real-world-challenges-in-the-context-of-digital-infrastructures/
BEGIN:VEVENT
UID:270212
DTSTAMP:20260422T194700
DTSTART:20260416T180000
DTEND:20260416T210000
SUMMARY:AI in the automotive industry: Real-world challenges in the context of digital infrastructures
LOCATION:
ORGANIZER:eco
URL:https://international.eco.de/event/ai-in-the-automotive-industry-real-world-challenges-in-the-context-of-digital-infrastructures/
DESCRIPTION:AI in the automotive industry: Real-world challenges in the context of digital infrastructures
END:VEVENT
END:VCALENDAR
