BEGIN:VCALENDAR
VERSION:2.0
PRODID:https://international.eco.de/event/topdns-best-practice-series-applying-the-dtsp-safe-framework-to-hosting-registries-and-registrars-from-compliance-to-operational-maturity/
BEGIN:VEVENT
UID:268613
DTSTAMP:20260426T040542
DTSTART:20260204T170000
DTEND:20260204T180000
SUMMARY:topDNS Best Practice Series: Applying the DTSP Safe Framework to Hosting\, Registries\, and Registrars: From Compliance to Operational Maturity
LOCATION:
ORGANIZER:eco
URL:https://international.eco.de/event/topdns-best-practice-series-applying-the-dtsp-safe-framework-to-hosting-registries-and-registrars-from-compliance-to-operational-maturity/
DESCRIPTION:topDNS Best Practice Series: Applying the DTSP Safe Framework to Hosting\, Registries\, and Registrars: From Compliance to Operational Maturity
END:VEVENT
END:VCALENDAR
