BEGIN:VCALENDAR
VERSION:2.0
PRODID:https://international.eco.de/event/icann87-readout-highlights-take-aways-from-the-annual-general-meeting-28th/
BEGIN:VEVENT
UID:268213
DTSTAMP:20260426T035537
DTSTART:20261104T163000
DTEND:20261104T180000
SUMMARY:ICANN87 Readout – Highlights & Take-Aways from the Annual General Meeting (28th)
LOCATION:
ORGANIZER:eco
URL:https://international.eco.de/event/icann87-readout-highlights-take-aways-from-the-annual-general-meeting-28th/
DESCRIPTION:ICANN87 Readout – Highlights & Take-Aways from the Annual General Meeting (28th)
END:VEVENT
END:VCALENDAR
