BEGIN:VCALENDAR
VERSION:2.0
PRODID:https://international.eco.de/event/icann86-readout-highlights-take-aways-from-the-policy-forum/
BEGIN:VEVENT
UID:268211
DTSTAMP:20260426T035600
DTSTART:20260617T163000
DTEND:20260617T180000
SUMMARY:ICANN86 Readout – Highlights & Take-Aways from the Policy Forum
LOCATION:
ORGANIZER:eco
URL:https://international.eco.de/event/icann86-readout-highlights-take-aways-from-the-policy-forum/
DESCRIPTION:ICANN86 Readout – Highlights & Take-Aways from the Policy Forum
END:VEVENT
END:VCALENDAR
