BEGIN:VCALENDAR
VERSION:2.0
PRODID:https://international.eco.de/event/icann85-readout-highlights-take-aways-from-the-community-forum/
BEGIN:VEVENT
UID:268209
DTSTAMP:20260426T041123
DTSTART:20260318T163000
DTEND:20260318T180000
SUMMARY:ICANN85 Readout – Highlights & Take-Aways from the Community Forum
LOCATION:
ORGANIZER:eco
URL:https://international.eco.de/event/icann85-readout-highlights-take-aways-from-the-community-forum/
DESCRIPTION:ICANN85 Readout – Highlights & Take-Aways from the Community Forum
END:VEVENT
END:VCALENDAR
