BEGIN:VCALENDAR
VERSION:2.0
PRODID:https://international.eco.de/event/online-policy-briefing-state-of-nis2-implementation-in-germany/
BEGIN:VEVENT
UID:245330
DTSTAMP:20260421T092129
DTSTART:20240829T153000
DTEND:20240829T163000
SUMMARY:Online Policy Briefing: State of NIS2 Implementation in Germany
LOCATION:ONLINE\, \,  
ORGANIZER:eco
URL:https://international.eco.de/event/online-policy-briefing-state-of-nis2-implementation-in-germany/
DESCRIPTION:Online Policy Briefing: State of NIS2 Implementation in Germany
END:VEVENT
END:VCALENDAR
