BEGIN:VCALENDAR
VERSION:2.0
PRODID:https://international.eco.de/event/global-domain-report-2024-deep-dive-into-domains/
BEGIN:VEVENT
UID:238206
DTSTAMP:20260422T104405
DTSTART:20240417T170000
DTEND:20240417T180000
SUMMARY:Global Domain Report 2024: Deep dive into domains
LOCATION:https://attendee.gotowebinar.com/register/8709508019210182494\, \,  
ORGANIZER:eco
URL:https://international.eco.de/event/global-domain-report-2024-deep-dive-into-domains/
DESCRIPTION:Global Domain Report 2024: Deep dive into domains
END:VEVENT
END:VCALENDAR
