BEGIN:VCALENDAR
VERSION:2.0
PRODID:https://international.eco.de/event/spring_reception/
BEGIN:VEVENT
UID:236890
DTSTAMP:20260424T145641
DTSTART:20240321T173000
DTEND:20240321T200000
SUMMARY:eco Spring Reception 2024: Making Europe fit for the Artificial Intelligence Age – co-hosted by IBM
LOCATION:
ORGANIZER:eco
URL:https://international.eco.de/event/spring_reception/
DESCRIPTION:eco Spring Reception 2024: Making Europe fit for the Artificial Intelligence Age – co-hosted by IBM
END:VEVENT
END:VCALENDAR
