BEGIN:VCALENDAR
VERSION:2.0
PRODID:https://international.eco.de/event/csa-email-summit-2024/
BEGIN:VEVENT
UID:233689
DTSTAMP:20260425T034420
DTSTART:20240422T090000
DTEND:20240424T170000
SUMMARY:CSA Email Summit 2024
LOCATION:
ORGANIZER:eco
URL:https://international.eco.de/event/csa-email-summit-2024/
DESCRIPTION:CSA Email Summit 2024
END:VEVENT
END:VCALENDAR
