BEGIN:VCALENDAR
VERSION:2.0
PRODID:https://international.eco.de/event/eco-mitglieder-interner-austausch-und-meinungsbildung-zu-konnektivitaetsinfrastruktur-und-faire-beteiligung/
BEGIN:VEVENT
UID:209942
DTSTAMP:20260420T195611
DTSTART:20230112T150000
DTEND:20230112T163000
SUMMARY:eco – internal Membership Meeting "Connectivity Infrastructure and Fair Contribution"
LOCATION:
ORGANIZER:eco
URL:https://international.eco.de/event/eco-mitglieder-interner-austausch-und-meinungsbildung-zu-konnektivitaetsinfrastruktur-und-faire-beteiligung/
DESCRIPTION:eco – internal Membership Meeting "Connectivity Infrastructure and Fair Contribution"
END:VEVENT
END:VCALENDAR
