BEGIN:VCALENDAR
VERSION:2.0
PRODID:https://international.eco.de/event/bxltalk/
BEGIN:VEVENT
UID:209603
DTSTAMP:20260421T163451
DTSTART:20230130T160000
DTEND:20230130T173000
SUMMARY:bxlTALK on CSAM followed by New Year Reception
LOCATION:
ORGANIZER:eco
URL:https://international.eco.de/event/bxltalk/
DESCRIPTION:bxlTALK on CSAM followed by New Year Reception
END:VEVENT
END:VCALENDAR
