BEGIN:VCALENDAR
VERSION:2.0
PRODID:https://international.eco.de/event/csam-workshop-2-detection-measures-challenges-potentials/
BEGIN:VEVENT
UID:204622
DTSTAMP:20260421T193311
DTSTART:20221026T133000
DTEND:20221026T150000
SUMMARY:CSAM Workshop 2: Detection measures - challenges & potentials
LOCATION:
ORGANIZER:eco
URL:https://international.eco.de/event/csam-workshop-2-detection-measures-challenges-potentials/
DESCRIPTION:CSAM Workshop 2: Detection measures - challenges & potentials
END:VEVENT
END:VCALENDAR
