BEGIN:VCALENDAR
VERSION:2.0
PRODID:https://international.eco.de/event/how-to-achieve-green-sustainability-goals-for-the-data-center-industry/
BEGIN:VEVENT
UID:182782
DTSTAMP:20260421T134242
DTSTART:20220222T140000
DTEND:20220222T153000
SUMMARY:How to achieve green sustainability goals for the Data Center Industry
LOCATION:
ORGANIZER:eco
URL:https://international.eco.de/event/how-to-achieve-green-sustainability-goals-for-the-data-center-industry/
DESCRIPTION:How to achieve green sustainability goals for the Data Center Industry
END:VEVENT
END:VCALENDAR
