BEGIN:VCALENDAR
VERSION:2.0
PRODID:https://international.eco.de/event/nordic-domain-days-2022/
BEGIN:VEVENT
UID:182562
DTSTAMP:20260420T085141
DTSTART:20220509T090000
DTEND:20220510T170000
SUMMARY:Nordic Domain Days 2022
LOCATION:Clarion Hotel Stockholm\, Ringvägen 98\, 118 60 Stockholm
ORGANIZER:eco
URL:https://international.eco.de/event/nordic-domain-days-2022/
DESCRIPTION:Nordic Domain Days 2022
END:VEVENT
END:VCALENDAR
