BEGIN:VCALENDAR
VERSION:2.0
PRODID:https://international.eco.de/event/eco-bxl-talk-the-ict-industry-in-the-european-union-green-deal-and-the-digital-transformation/
BEGIN:VEVENT
UID:151686
DTSTAMP:20260423T102900
DTSTART:20210420T110000
DTEND:20210420T114500
SUMMARY:eco BXL Talk: The ICT Industry in the European Union – Green Deal and the Digital Transformation
LOCATION:
ORGANIZER:eco
URL:https://international.eco.de/event/eco-bxl-talk-the-ict-industry-in-the-european-union-green-deal-and-the-digital-transformation/
DESCRIPTION:eco BXL Talk: The ICT Industry in the European Union – Green Deal and the Digital Transformation
END:VEVENT
END:VCALENDAR
