BEGIN:VCALENDAR
VERSION:2.0
PRODID:https://international.eco.de/event/online-presentation-of-eco-complaints-office-2020-annual-report/
BEGIN:VEVENT
UID:150644
DTSTAMP:20260419T230418
DTSTART:20210413T140000
DTEND:20210413T153000
SUMMARY:eco Complaints Office Annual Report 2020 Online Presentation
LOCATION:
ORGANIZER:eco
URL:https://international.eco.de/event/online-presentation-of-eco-complaints-office-2020-annual-report/
DESCRIPTION:eco Complaints Office Annual Report 2020 Online Presentation
END:VEVENT
END:VCALENDAR
