BEGIN:VCALENDAR
VERSION:2.0
PRODID:https://international.eco.de/event/eco-panel-igf2019-needs-of-smes-for-the-internet-of-the-future/
BEGIN:VEVENT
UID:104590
DTSTAMP:20260423T025017
DTSTART:20191125T124500
DTEND:20191125T141500
SUMMARY:eco Panel @ IGF2019 – Needs of SMEs for the Internet of the future
LOCATION:Estrel Congress Center\, Saal C\, Sonnenallee 225\, 12057 Berlin
ORGANIZER:eco
URL:https://international.eco.de/event/eco-panel-igf2019-needs-of-smes-for-the-internet-of-the-future/
DESCRIPTION:eco Panel @ IGF2019 – Needs of SMEs for the Internet of the future
END:VEVENT
END:VCALENDAR
